BEGIN:VCALENDAR
VERSION:2.0
PRODID:https://www.g-h-t.de/ - powered by BLUEPAGE-CMS ©2026
NAME:GHT Spielplan
X-WR-CALNAME:GHT Spielplan
TZID:Europe/Berlin
X-LIC-LOCATION:Europe/Berlin
CALSCALE:GREGORIAN
METHOD:PUBLISH
BEGIN:VEVENT
UID:3508-13748@www.g-h-t.de
LOCATION:Haus Zittau Foyer
SUMMARY:GHT Görlitz-Zittau: Mehr als Geld. Kultur in der Fläche im Freistaat Sachsen
DESCRIPTION:GHT Görlitz-Zittau präsentiert:\nMehr als Geld. Kultur in der Fläche im Freistaat Sachsen\nSimon Strauß und Daniel Morgenroth im Gespräch mit Ministerpräsident Michael Kretschmer\n\nDatum: 	25.04.2026\nBeginn: 	17:30 Uhr\nEnde: 	19:30 Uhr\n\nAlle Informationen unter:\nhttps://www.g-h-t.de/de/spielplan/mehr-als-geld.-kultur-in-der-flaeche-im-freistaat-sachsen/2026-04-25/13748/\n\nWir wünschen Ihnen einen angenehmen Aufenthalt und eine schöne Vorstellung!\nIhr GHT-Team\n\n
X-ALT-DESC;FMTTYPE=text/html: <html><body>GHT Görlitz-Zittau präsentiert:<br><h2>Mehr als Geld. Kultur in der Fläche im Freistaat Sachsen</h2><b>Simon Strauß und Daniel Morgenroth im Gespräch mit Ministerpräsident Michael Kretschmer</b><br><br><table><tr><td>Datum: </td><td>25.04.2026</td></tr><tr><td>Beginn: </td><td>17:30 Uhr</td></tr><tr><td>Ende: </td><td>19:30 Uhr</td></tr></table><br>Alle Informationen unter:<br>https://www.g-h-t.de/de/spielplan/mehr-als-geld.-kultur-in-der-flaeche-im-freistaat-sachsen/2026-04-25/13748/<br><br><br><i>Wir wünschen Ihnen einen angenehmen Aufenthalt und eine schöne Vorstellung!<br>Ihr GHT-Team</i><br></body></html>
CLASS:PUBLIC
DTSTART:20260425T153000Z
DTEND:20260425T173000Z
DTSTAMP:20260421T102920Z
END:VEVENT
END:VCALENDAR